BEGIN:VCALENDAR
VERSION:2.0
PRODID:-//Wood Lake RV - ECPv4.9.10//NONSGML v1.0//EN
CALSCALE:GREGORIAN
METHOD:PUBLISH
X-WR-CALNAME:Wood Lake RV
X-ORIGINAL-URL:https://woodlakerv.com
X-WR-CALDESC:Events for Wood Lake RV
BEGIN:VTIMEZONE
TZID:America/Vancouver
BEGIN:DAYLIGHT
TZOFFSETFROM:-0800
TZOFFSETTO:-0700
TZNAME:PDT
DTSTART:20200308T100000
END:DAYLIGHT
BEGIN:STANDARD
TZOFFSETFROM:-0700
TZOFFSETTO:-0800
TZNAME:PST
DTSTART:20201101T090000
END:STANDARD
END:VTIMEZONE
BEGIN:VEVENT
DTSTART;TZID=America/Vancouver:20200821T113000
DTEND;TZID=America/Vancouver:20200821T130000
DTSTAMP:20260422T173816
CREATED:20200228T211851Z
LAST-MODIFIED:20200228T211851Z
UID:5812-1598009400-1598014800@woodlakerv.com
SUMMARY:11:30 AM - Olympic Games Day! Sign up to win prizes!
DESCRIPTION:
URL:https://woodlakerv.com/event/1130-am-olympic-games-day-sign-up-to-win-prizes/
LOCATION:Kid’z Zone
END:VEVENT
END:VCALENDAR