BEGIN:VCALENDAR
VERSION:2.0
PRODID:-//Wood Lake RV - ECPv4.9.10//NONSGML v1.0//EN
CALSCALE:GREGORIAN
METHOD:PUBLISH
X-WR-CALNAME:Wood Lake RV
X-ORIGINAL-URL:https://woodlakerv.com
X-WR-CALDESC:Events for Wood Lake RV
BEGIN:VTIMEZONE
TZID:America/Vancouver
BEGIN:DAYLIGHT
TZOFFSETFROM:-0800
TZOFFSETTO:-0700
TZNAME:PDT
DTSTART:20200308T100000
END:DAYLIGHT
BEGIN:STANDARD
TZOFFSETFROM:-0700
TZOFFSETTO:-0800
TZNAME:PST
DTSTART:20201101T090000
END:STANDARD
END:VTIMEZONE
BEGIN:VEVENT
DTSTART;VALUE=DATE:20200824
DTEND;VALUE=DATE:20200825
DTSTAMP:20260422T173103
CREATED:20200228T211933Z
LAST-MODIFIED:20200228T211933Z
UID:5814-1598227200-1598313599@woodlakerv.com
SUMMARY:HAWAIIAN WEEK!
DESCRIPTION:
URL:https://woodlakerv.com/event/hawaiian-week/
END:VEVENT
END:VCALENDAR